BEGIN:VCALENDAR
VERSION:2.0
PRODID:-//Miscarriage.ie - ECPv6.13.0//NONSGML v1.0//EN
CALSCALE:GREGORIAN
METHOD:PUBLISH
X-WR-CALNAME:Miscarriage.ie
X-ORIGINAL-URL:https://miscarriage.ie
X-WR-CALDESC:Events for Miscarriage.ie
REFRESH-INTERVAL;VALUE=DURATION:PT1H
X-Robots-Tag:noindex
X-PUBLISHED-TTL:PT1H
BEGIN:VTIMEZONE
TZID:UTC
BEGIN:STANDARD
TZOFFSETFROM:+0000
TZOFFSETTO:+0000
TZNAME:UTC
DTSTART:20240101T000000
END:STANDARD
END:VTIMEZONE
BEGIN:VEVENT
DTSTART;TZID=UTC:20241001T200000
DTEND;TZID=UTC:20241001T213000
DTSTAMP:20260421T155454
CREATED:20241001T125107Z
LAST-MODIFIED:20241001T125107Z
UID:8476-1727812800-1727818200@miscarriage.ie
SUMMARY:Carlow Support Meeting
DESCRIPTION:Our peer to peer Carlow Support meetings take place in-person on the 1st Tuesday every second month in the Dolmen Hotel in Carlow\, R93 N207. Anyone who has lost a baby through miscarriage is welcome to attend. Those attending our meetings must be over 18 years of age unless accompanied by a parent or guardian.
URL:https://miscarriage.ie/event/carlow-support-meeting/
LOCATION:The Dolmen Hotel\, Kilkenny Road\,\, Carlow\, Carlow\, R93 N207\, Ireland
END:VEVENT
BEGIN:VEVENT
DTSTART;TZID=UTC:20241003T200000
DTEND;TZID=UTC:20241003T213000
DTSTAMP:20260421T155454
CREATED:20240220T112059Z
LAST-MODIFIED:20240220T112059Z
UID:8359-1727985600-1727991000@miscarriage.ie
SUMMARY:Dublin Support Meeting
DESCRIPTION:Our peer to peer Dublin Support meetings take place in-person on the 1st Thursday of every month in Buswells Hotel\, 23-27 Molesworth Street\, D02 CT80. Anyone who has lost a baby through miscarriage is welcome to attend. Those attending our meetings must be over 18 years of age unless accompanied by a parent or guardian.
URL:https://miscarriage.ie/event/dublin-support-meeting-8/
LOCATION:Buswells Hotel\, 23-27 Molesworth Street\, Dublin 2\, D02 DT80\, Ireland
ORGANIZER;CN="The Miscarriage Association Of Ireland":MAILTO:info@miscarriage.ie
END:VEVENT
BEGIN:VEVENT
DTSTART;TZID=UTC:20241008T200000
DTEND;TZID=UTC:20241008T213000
DTSTAMP:20260421T155454
CREATED:20240220T120116Z
LAST-MODIFIED:20240220T120116Z
UID:8394-1728417600-1728423000@miscarriage.ie
SUMMARY:Mid-West Support Meeting
DESCRIPTION:Our peer-to-peer Mid-West Support meetings take place in-person on the 2nd Tuesday of every month. Meetings will alternate between Limerick and Clare. Anyone who has lost a baby through miscarriage is welcome to attend. Those attending our meetings must be over 18 years of age unless accompanied by a parent or guardian.
URL:https://miscarriage.ie/event/mid-west-support-meeting-8/
LOCATION:The Greenhills Hotel\, Ennis Road\, Limerick\, V94X2RV\, Ireland
ORGANIZER;CN="The Miscarriage Association Of Ireland":MAILTO:info@miscarriage.ie
END:VEVENT
BEGIN:VEVENT
DTSTART;TZID=UTC:20241014T200000
DTEND;TZID=UTC:20241014T213000
DTSTAMP:20260421T155454
CREATED:20240221T132614Z
LAST-MODIFIED:20240221T132614Z
UID:8422-1728936000-1728941400@miscarriage.ie
SUMMARY:Westmeath Support Meeting
DESCRIPTION:Our Westmeath Support meetings take place in-person on the 2nd Monday of every month in Athlone Springs Hotel\, Monksland\, Athlone N37F9T3. Anyone who has lost a baby through miscarriage is welcome to attend. Those attending our meetings must be over 18 years of age unless accompanied by a parent or guardian.
URL:https://miscarriage.ie/event/westmeath-support-meeting-3/
LOCATION:Athlone Springs Hotel\, Monksland\, Athlone\, N37F9T3\, Ireland
ORGANIZER;CN="The Miscarriage Association Of Ireland":MAILTO:info@miscarriage.ie
END:VEVENT
BEGIN:VEVENT
DTSTART;TZID=UTC:20241017T203000
DTEND;TZID=UTC:20241017T213000
DTSTAMP:20260421T155454
CREATED:20240220T111024Z
LAST-MODIFIED:20240220T111024Z
UID:8339-1729197000-1729200600@miscarriage.ie
SUMMARY:Zoom Meeting
DESCRIPTION:Our monthly peer to peer ZOOM support meetings take place on the 3rd Thursday of every month @8.30pm. Anyone who has lost a baby through miscarriage is most welcome to attend. To join\, please email ‘Zoom’ to info@miscarriage.ie and link will be sent on the day of the meeting.
URL:https://miscarriage.ie/event/zoom-meeting-8/
LOCATION:Online
ORGANIZER;CN="The Miscarriage Association Of Ireland":MAILTO:info@miscarriage.ie
END:VEVENT
END:VCALENDAR