BEGIN:VCALENDAR
VERSION:2.0
PRODID:-//Miscarriage.ie - ECPv6.13.0//NONSGML v1.0//EN
CALSCALE:GREGORIAN
METHOD:PUBLISH
X-WR-CALNAME:Miscarriage.ie
X-ORIGINAL-URL:https://miscarriage.ie
X-WR-CALDESC:Events for Miscarriage.ie
REFRESH-INTERVAL;VALUE=DURATION:PT1H
X-Robots-Tag:noindex
X-PUBLISHED-TTL:PT1H
BEGIN:VTIMEZONE
TZID:UTC
BEGIN:STANDARD
TZOFFSETFROM:+0000
TZOFFSETTO:+0000
TZNAME:UTC
DTSTART:20240101T000000
END:STANDARD
END:VTIMEZONE
BEGIN:VEVENT
DTSTART;TZID=UTC:20241112T200000
DTEND;TZID=UTC:20241112T213000
DTSTAMP:20260419T223826
CREATED:20240220T120228Z
LAST-MODIFIED:20240220T120228Z
UID:8396-1731441600-1731447000@miscarriage.ie
SUMMARY:Mid-West Support Meeting
DESCRIPTION:Our peer-to-peer Mid-West Support meetings take place in-person on the 2nd Tuesday of every month. Meetings will alternate between Limerick and Clare. Anyone who has lost a baby through miscarriage is welcome to attend. Those attending our meetings must be over 18 years of age unless accompanied by a parent or guardian.
URL:https://miscarriage.ie/event/mid-west-support-meeting-9/
LOCATION:The Inn at Dromoland\, Newmarket\, Clare\, V95EPF5\, Ireland
ORGANIZER;CN="The Miscarriage Association Of Ireland":MAILTO:info@miscarriage.ie
END:VEVENT
BEGIN:VEVENT
DTSTART;TZID=UTC:20241119T200000
DTEND;TZID=UTC:20241119T213000
DTSTAMP:20260419T223826
CREATED:20240220T120904Z
LAST-MODIFIED:20240220T120904Z
UID:8408-1732046400-1732051800@miscarriage.ie
SUMMARY:Cork Support Meeting
DESCRIPTION:Our peer to peer Cork Support meetings take place in-person on the 3rd Tuesday of EVERY SECOND MONTH in SMA Centre\, Wilton\, Cork. Anyone who has lost a baby through miscarriage is welcome to attend. Those attending our meetings must be over 18 years of age unless accompanied by a parent or guardian.
URL:https://miscarriage.ie/event/cork-support-meeting-5/
LOCATION:SMA Wilton Parish Centre\, Wilton\, Cork\, T12 AX94\, Ireland
ORGANIZER;CN="The Miscarriage Association Of Ireland":MAILTO:info@miscarriage.ie
END:VEVENT
BEGIN:VEVENT
DTSTART;TZID=UTC:20241126T200000
DTEND;TZID=UTC:20241126T213000
DTSTAMP:20260419T223826
CREATED:20240220T114221Z
LAST-MODIFIED:20240220T114221Z
UID:8376-1732651200-1732656600@miscarriage.ie
SUMMARY:Galway Support Meeting
DESCRIPTION:Our peer to peer Galway Support meetings take place in-person on the last Tuesday every second month in Menlo Park Hotel\, Headford Road\, Galway H8E98N from 8pm to 9:30pm. Anyone who has lost a baby through miscarriage is welcome to attend. Those attending our meetings must be over 18 years of age unless accompanied by a parent or guardian.
URL:https://miscarriage.ie/event/galway-support-meeting-5/
LOCATION:Menlo Park Hotel\, Headford Road\, Galway\, H91E98N\, Ireland
ORGANIZER;CN="The Miscarriage Association Of Ireland":MAILTO:info@miscarriage.ie
END:VEVENT
BEGIN:VEVENT
DTSTART;TZID=UTC:20241205T200000
DTEND;TZID=UTC:20241205T213000
DTSTAMP:20260419T223826
CREATED:20240220T112249Z
LAST-MODIFIED:20240220T112249Z
UID:8363-1733428800-1733434200@miscarriage.ie
SUMMARY:Dublin Support Meeting
DESCRIPTION:Our peer to peer Dublin Support meetings take place in-person on the 1st Thursday of every month in Buswells Hotel\, 23-27 Molesworth Street\, D02 CT80. Anyone who has lost a baby through miscarriage is welcome to attend. Those attending our meetings must be over 18 years of age unless accompanied by a parent or guardian.
URL:https://miscarriage.ie/event/dublin-support-meeting-10/
LOCATION:Buswells Hotel\, 23-27 Molesworth Street\, Dublin 2\, D02 DT80\, Ireland
ORGANIZER;CN="The Miscarriage Association Of Ireland":MAILTO:info@miscarriage.ie
END:VEVENT
BEGIN:VEVENT
DTSTART;TZID=UTC:20241209T200000
DTEND;TZID=UTC:20241209T213000
DTSTAMP:20260419T223826
CREATED:20240221T132713Z
LAST-MODIFIED:20240221T132713Z
UID:8424-1733774400-1733779800@miscarriage.ie
SUMMARY:Westmeath Support Meeting
DESCRIPTION:Our Westmeath Support meetings take place in-person on the 2nd Monday of every month in Athlone Springs Hotel\, Monksland\, Athlone N37F9T3. Anyone who has lost a baby through miscarriage is welcome to attend. Those attending our meetings must be over 18 years of age unless accompanied by a parent or guardian.
URL:https://miscarriage.ie/event/westmeath-support-meeting-4/
LOCATION:Athlone Springs Hotel\, Monksland\, Athlone\, N37F9T3\, Ireland
ORGANIZER;CN="The Miscarriage Association Of Ireland":MAILTO:info@miscarriage.ie
END:VEVENT
BEGIN:VEVENT
DTSTART;TZID=UTC:20241210T200000
DTEND;TZID=UTC:20241210T213000
DTSTAMP:20260419T223826
CREATED:20240220T120322Z
LAST-MODIFIED:20240220T120322Z
UID:8398-1733860800-1733866200@miscarriage.ie
SUMMARY:Mid-West Support Meeting
DESCRIPTION:Our peer-to-peer Mid-West Support meetings take place in-person on the 2nd Tuesday of every month. Meetings will alternate between Limerick and Clare. Anyone who has lost a baby through miscarriage is welcome to attend. Those attending our meetings must be over 18 years of age unless accompanied by a parent or guardian.
URL:https://miscarriage.ie/event/mid-west-support-meeting-10/
LOCATION:The Greenhills Hotel\, Ennis Road\, Limerick\, V94X2RV\, Ireland
ORGANIZER;CN="The Miscarriage Association Of Ireland":MAILTO:info@miscarriage.ie
END:VEVENT
BEGIN:VEVENT
DTSTART;TZID=UTC:20241219T203000
DTEND;TZID=UTC:20241219T213000
DTSTAMP:20260419T223826
CREATED:20240220T111112Z
LAST-MODIFIED:20241101T163012Z
UID:8341-1734640200-1734643800@miscarriage.ie
SUMMARY:Zoom Meeting
DESCRIPTION:Our peer to peer ZOOM support meetings take place on the 3rd Thursday of every second month @8.30pm. Anyone who has lost a baby through miscarriage is most welcome to attend. To join\, please email ‘Zoom’ to info@miscarriage.ie and link will be sent on the day of the meeting.
URL:https://miscarriage.ie/event/zoom-meeting-9/
LOCATION:Online
ORGANIZER;CN="The Miscarriage Association Of Ireland":MAILTO:info@miscarriage.ie
END:VEVENT
END:VCALENDAR