BEGIN:VCALENDAR
VERSION:2.0
PRODID:-//Miscarriage.ie - ECPv6.13.0//NONSGML v1.0//EN
CALSCALE:GREGORIAN
METHOD:PUBLISH
X-ORIGINAL-URL:https://miscarriage.ie
X-WR-CALDESC:Events for Miscarriage.ie
REFRESH-INTERVAL;VALUE=DURATION:PT1H
X-Robots-Tag:noindex
X-PUBLISHED-TTL:PT1H
BEGIN:VTIMEZONE
TZID:UTC
BEGIN:STANDARD
TZOFFSETFROM:+0000
TZOFFSETTO:+0000
TZNAME:UTC
DTSTART:20230101T000000
END:STANDARD
END:VTIMEZONE
BEGIN:VEVENT
DTSTART;TZID=UTC:20231211T190000
DTEND;TZID=UTC:20231211T203000
DTSTAMP:20260421T114705
CREATED:20231128T102626Z
LAST-MODIFIED:20231128T104555Z
UID:8301-1702321200-1702326600@miscarriage.ie
SUMMARY:Louth Support Meeting (In-Person)
DESCRIPTION:Our Louth Support Meeting takes place in-person on the 11th December in The Community Room\, Louth Local Development\, Park Street\, Dundalk\, A91V2KF. Anyone who has lost a baby through miscarriage is welcome to attend. Those attending our meetings must be over 18 years of age unless accompanied by a parent or guardian.
URL:https://miscarriage.ie/event/louth-support-meeting-in-person/
LOCATION:The Community Room\, LLD\, Dundalk\, Louth Local Development\, Dundalk\, Louth\, A91V2KF\, Ireland
END:VEVENT
END:VCALENDAR